BEGIN:VCALENDAR
VERSION:2.0
PRODID:-//Gwinnett College - ECPv6.7.0//NONSGML v1.0//EN
CALSCALE:GREGORIAN
METHOD:PUBLISH
X-WR-CALNAME:Gwinnett College
X-ORIGINAL-URL:https://www.gwinnettcollege.edu
X-WR-CALDESC:Events for Gwinnett College
REFRESH-INTERVAL;VALUE=DURATION:PT1H
X-Robots-Tag:noindex
X-PUBLISHED-TTL:PT1H
BEGIN:VTIMEZONE
TZID:UTC
BEGIN:STANDARD
TZOFFSETFROM:+0000
TZOFFSETTO:+0000
TZNAME:UTC
DTSTART:20250101T000000
END:STANDARD
END:VTIMEZONE
BEGIN:VEVENT
DTSTART;TZID=UTC:20260307T100000
DTEND;TZID=UTC:20260308T180000
DTSTAMP:20260421T134506
CREATED:20251209T124249Z
LAST-MODIFIED:20260306T175138Z
UID:21491-1772877600-1772992800@www.gwinnettcollege.edu
SUMMARY:Carrie Taylor's Shoulder\, Elbow\, & Wrist Upper Extremity Approaches; Abdomen\, Ribcage\, Pelvis
DESCRIPTION:Day 1:Shoulder\, Elbow\, and Wrist – Upper Extremity Approaches\nThis workshop covers Myofascial assessment of the shoulder\, elbow and wrist as it applies to formulating effective treatment goals for a variety of disorders in the region\, such as Thoracic Outlet Syndrome\, Adhesive Capsulitis/”frozen shoulder”\, Carpal Tunnel Syndrome\, DeQuervain’s Tenosynovitis\, “Blackberry thumb”\, Shoulder tendinosis\, etc. Participants will be shown how to release clavipectoral\, deltopectoral\, platysmal\, sternal\, cubital\, flexor & extensor superficial fascias\, before deeper structures are addressed.\nScapular mobilization supine and prone will be demonstrated\, with specific releases to all muscles & fascial tissues involved in upper extremity dysfunction. Clavicle mobilization and abdominal head of pec major release round out the shoulder approaches. In addition\, joint mobilizations and osseous techniques are shown for the clavicle\, scapula\, and upper extremity joints.\nTreatment of the elbow and wrist\, with focus on decompressing the radius & ulna from the humerus\, decompressing the Carpal Tunnel\, as well as mobilizing the carpals & phalanges\, can improve & prevent many of the above disorders. \nDay 2: Abdomen\, Ribcage\, and Pelvis\nThis course will remove any discomfort felt by therapists when\nworking on the Abdomen\, Ribcage & Pelvis\, by combining in depth assessment approaches with effective myofascial release techniques. Therapists will spend time doing direct techniques\, such as release of the abdominal/peritoneal fascia\, and iliac/inguinal fascia\, as well as indirect techniques\, such as release of groin/pubic fascias. Proprioceptive neuromuscular facilitation (PNF) will be employed\, along with passive stretching with traction (limb unwinding)\, to perform the indirect techniques. Once learned\, PNF and limb unwinding can be applied anywhere in the body. Patients will experience improved digestion from the abdominal work\, improved breathing from the ribcage/diaphragm work\, and better flexibility in the back and hips from the pelvic work. Decreased back\, shoulder\, and neck pain can be expected from all of the modalities used. \nClass Info\nTimes:\nDay 1: 10:00 am – 6:00 pm; Day 2:10:00 am – 6:00 pm\nCEU’s: 14\nPrice: $275.00 \nEnrollment Closed\nLocation: Gwinnett College – Roswell 1455 Old Alabama Road Suite 160 Roswell\, GA 30076\nClass capacity: 20\nContact: Please call us at (770) 381-7200 if you have any questions.\nRefunds: No refunds within 2 weeks of class. If there is a documented emergency\, you may transfer after to a later class by this instructor.\n*Refunds are subject to a $10 processing fee.\nPicture ID required at check-in \nIf minimum enrollment is not met\, the class may be subject to cancellation.  Minimum is met \nCarrie Taylor\nNCBTMB#710407-100
URL:https://www.gwinnettcollege.edu/event/carrie-taylors-shoulder-elbow-abdomen-ribcage-pelvis/
LOCATION:Gwinnett College – Roswell\, GA\, 1455 Old Alabama Road Suite 160\, Roswell\, GA\, 30076\, United States
END:VEVENT
BEGIN:VEVENT
DTSTART;TZID=UTC:20260221T100000
DTEND;TZID=UTC:20260222T180000
DTSTAMP:20260421T134506
CREATED:20251209T123633Z
LAST-MODIFIED:20260216T135324Z
UID:21488-1771668000-1771783200@www.gwinnettcollege.edu
SUMMARY:Carrie Taylor's TMJ Dysfunction and TOS; Breast Fascia and Pectoral Girdle
DESCRIPTION:CLASS CANCELLED\nDay 1:Fascial Fundamentals\nThis workshop will take therapists through a detailed HOPMNRS assessment of the TMJ and Cervical Spine\, then progress into treatment ideas to release the TMJ/Thoracic Outlet and surrounding fascial tissues.\nFocus will be on release of the Trapezius & SCM\, which share the same fascial sheath\, and how to differentiate this superficial layer from the deeper muscles of the cervical spine. How to use the ear\, which connects directly to the TMJ\, to facilitate opening of the joint indirectly\, as well as direct treatment modalities to the temporomandibular joint itself will be shown\, via soft tissue and joint mobilization techniques. Release of the sternal\, clavipectoral\, deltopectoral fascias\, and the galea aponeurotica within the context of affecting the upper tracks of the deep front fascial line are valuable tools in resetting postural contributors to these disorders.\nMastoid\, jugular foramen\, and hyoid/throat modalities will also be shown\, as well as direct treatment procedures for the temporalis\, masseter\, medial and lateral pterygoids. A cylindrical approach to treating the many compartments of the cervical spine comfortably will be the primary focus\, as TMJ Disorder and Thoracic Outlet Syndrome are dramatically improved by postural balance in this region.\nPain-free intra-oral work using gloves\, will round out the many treatment approaches taught during the class\, as well as discussion of how to effectively work within the pain tolerance of the patient in this region.\nDealing with somato-emotional release will also be covered\, to prepare the therapist for this potential when treating this disorder. \nDay 2: Breast Fascia and Pectoral Girdle\nThis myofascial approach to treatment of the breast\, pectoral girdle\, and related tissues\, will provide participants with the confidence to perform hands-on techniques in a sensitive\, yet highly under-treated area. Learning to work on scar tissue\, musculature\, and fascia post-surgery\, or following any other trauma\, is an effective means to improve posture for the client. Improving the pliability and flexibility of scar tissue has also been shown to significantly decrease pain\, especially in the neck and shoulder girdle. Work will be demonstrated draped\, undraped\, or through clothing/sheet to provide options for patient & therapist comfort. \nClass Info\nTimes:\nDay 1: 10:00 am – 6:00 pm; Day 2:10:00 am – 6:00 pm\nCEU’s: 14\nPrice: $275.00 \nCLASS CANCELLED\nLocation: Gwinnett College – Roswell 1455 Old Alabama Road Suite 160 Roswell\, GA 30076\nClass capacity: 20\nContact: Please call us at (770) 381-7200 if you have any questions.\nRefunds: No refunds within 2 weeks of class. If there is a documented emergency\, you may transfer after to a later class by this instructor.\n*Refunds are subject to a $10 processing fee.\nPicture ID required at check-in \nIf minimum enrollment is not met\, the class may be subject to cancellation. \nCarrie Taylor\nNCBTMB#710407-100
URL:https://www.gwinnettcollege.edu/event/carrie-taylors-tmj-dysfunction-and-tos-breast-fascia-and-pectoral-girdle/
LOCATION:Gwinnett College – Roswell\, GA\, 1455 Old Alabama Road Suite 160\, Roswell\, GA\, 30076\, United States
END:VEVENT
BEGIN:VEVENT
DTSTART;TZID=UTC:20260110T100000
DTEND;TZID=UTC:20260111T180000
DTSTAMP:20260421T134506
CREATED:20251209T122821Z
LAST-MODIFIED:20260105T155200Z
UID:21485-1768039200-1768154400@www.gwinnettcollege.edu
SUMMARY:Carrie Taylor's Facial Fundamentals & HOPMNRS Approach to Assessment
DESCRIPTION:CLASS CANCELLED\nDay 1:Fascial Fundamentals\nThis workshop will give participants an introduction to the “Taylor Technique” style of myofascial assessment & treatment\, and how to incorporate this work into their current practice. Specifically\, strain/ counterstrain\, using limbs as levers\, pin & drag\, skin rolling\, pick up & roll are all shown in several areas of the body\, focusing on palpation of superficial and deep layers of fascia\, and differentiating between the two.\nLearning about the elements of fascia and how to dialogue on this topic with prospective and current clients\, will help participants incorporate this work into their current massage practice\, while managing client expectations. Therapists will become proficient at using these techniques everywhere in the body\, and the focused hands-on practice in palpation\, is a skill that will be demonstrated throughout the seminar\, in addition to body mechanics.\nThis class is the platform for the other 9 topics in the level 1 series\, and gives the healthcare practitioner a firm foundation in applying palpative skill effectively. DVDs and downloads are available for all ten topics in this myofascial certification series\, as well as ten level 2 DVDs and ten level 3 DVDs now available at www.taylortechniquesinc.com. Level 1 textbook is available in downloadable and hard copy formats on amazon/kindle! \nDay 2: HOPMNRS Approach to Assessment\nThis course offers an in depth look at Assessment and Treatment from a myofascial perspective. Therapists will be taken through a very detailed process on how to approach assessing a client\, from History/intake\, to observation\, movement and posture analysis\, as well as palpation and neurological assessment\, referral pain recognition\, and special tests when needed. This approach is designed to increase the therapist’s confidence and expertise when assessing a client\, giving them the necessary information to form a highly effective treatment plan. \nClass Info\nTimes:\nDay 1: 10:00 am – 6:00 pm; Day 2:10:00 am – 6:00 pm\nCEU’s: 14\nPrice: $275.00 \nCLASS CANCELLED\nLocation: Gwinnett College – Roswell 1455 Old Alabama Road Suite 160 Roswell\, GA 30076\nClass capacity: 20\nContact: Please call us at (770) 381-7200 if you have any questions.\nRefunds: No refunds within 2 weeks of class. If there is a documented emergency\, you may transfer after to a later class by this instructor.\n*Refunds are subject to a $10 processing fee.\nPicture ID required at check-in \nIf minimum enrollment is not met\, the class may be subject to cancellation. \nCarrie Taylor\nNCBTMB#710407-100
URL:https://www.gwinnettcollege.edu/event/carrie-taylors-facial-fundamentals-hopmnrs-approach-to-assessment/
LOCATION:Gwinnett College – Roswell\, GA\, 1455 Old Alabama Road Suite 160\, Roswell\, GA\, 30076\, United States
END:VEVENT
BEGIN:VEVENT
DTSTART;TZID=UTC:20251122T100000
DTEND;TZID=UTC:20251123T180000
DTSTAMP:20260421T134506
CREATED:20251008T182056Z
LAST-MODIFIED:20251118T180038Z
UID:21245-1763805600-1763920800@www.gwinnettcollege.edu
SUMMARY:Carrie Taylor's Fascial Fundamentals & Full Body Myofascial Treatment
DESCRIPTION:CLASS CANCELLED\nNov 22: Fascial Fundamentals\nThis workshop will give participants an introduction to the “Taylor Technique” style of myofascial assessment & treatment\, and how to incorporate this work into their current practice. Specifically\, strain/counterstrain\, using limbs as levers\, pin & drag\, skin rolling\, pick up & roll are all shown in several areas of the body\, focusing on palpation of superficial and deep layers of fascia\, and differentiating between the two.\nLearning about the elements of fascia and how to dialogue on this topic with prospective and current clients\, will help participants incorporate this work into their current massage practice\, while managing client expectations. Therapists will become proficient at using these techniques everywhere in the body\, and the focused hands-on practice in palpation\, is a skill that will be demonstrated throughout the seminar\, in addition to body mechanics.\nThis class is the platform for the other 9 topics in the level 1 series\, and gives the healthcare practitioner a firm foundation in applying palpative skill effectively. DVDs and downloads are available for all ten topics in this myofascial certification series\, as well as ten level 2 DVDs and ten level 3 DVDs now available at www.taylortechniquesinc.com. Level 1 textbook is available in downloadable and hard copy formats on amazon/kindle! \nNov 23: How to Give a Full Body Myofascial Session\nThis workshop combines many of the techniques learned in other Taylor myofascial workshops\, to form a more generalized full body “protocol”. A full sequence of treatment ideas is shown starting in prone\, with discussion on what to do if you find areas of concern/complaint that need more specific techniques applied (yet still be able to fit everything into one session). The supine portion of the session starts on the lower body\, and ends at the head & neck\, once again addressing possible areas where some clients might need more specific work\, but keeping the therapist focused on achieving a full body result in the time allotted. \nInstructor: Kirsten Guilliams\nNCBTMB Approved Provider # 100 \nSupplies\n\nTwo twin set of sheets\nlotion or cream (no oil based products)\n\nClass info\nTimes: Day 1: 10:00 am – 6:00 pm // Day 2: 10:00 am – 6:00 pm \nClass: Fascial Fundamentals // How to Give a Full Body Myofascial Session\nCEU: 14 \nPrice: $275 \nCLASS CANCELLED\nClass Capacity: 20 \n*Refunds are subject to a $10 processing fee. \nLocation: Gwinnett College – ROSWELL\, 1455 Old Alabama Road\, Suite 160 Roswell\, GA 30076 \nContact: Please call (770) 381-7200 if you have any questions. \nRefunds: No refunds within 2 weeks of class. If there is a documented emergency\, you may transfer after to a later class by this instructor. \nPicture ID required at check-in \nIf minimum enrollment is not met\, the class may be subject to cancellation.
URL:https://www.gwinnettcollege.edu/event/carrie-taylors-fascial-fundamentals-full-body-myofascial-treatment/
LOCATION:Gwinnett College – Roswell\, GA\, 1455 Old Alabama Road Suite 160\, Roswell\, GA\, 30076\, United States
END:VEVENT
BEGIN:VEVENT
DTSTART;TZID=UTC:20251115T100000
DTEND;TZID=UTC:20251116T180000
DTSTAMP:20260421T134506
CREATED:20251008T182229Z
LAST-MODIFIED:20251008T182229Z
UID:21247-1763200800-1763316000@www.gwinnettcollege.edu
SUMMARY:Carrie Taylor: Advanced Myofascial & Osseous: Cylinder of the Thigh / Leg
DESCRIPTION:Cylinder of the Thigh and It’s Compartments\nThis advanced Myofascial osteopathic workshop is geared towards practitioners who are ready to elevate their palpation and treatment skills to the next level.\nThis class is an osseous and myofascial look at treatment of the cylinder of the thigh & its compartments\, delving into the intermuscular septa which separate the muscle groups\, treating the femur and its periosteum\, & addressing the ilio/ischio/pubofemoral ligaments of the hip. Time will be\nspent developing a deep palpative sense of the specific muscles within each of the compartments of the thigh\, as well as cultivating an ability to successfully work with the periosteum of the femur. In addition\, bursal structures of the hip will be palpated\, and treatment strategies are covered for ischiogluteal\, trochanteric\, and iliopectineal bursae. Popliteal bursa/“Baker’s cyst” treatment is also covered\, as part of a complete strategy for improving knee pain\, where many patients complain\nof hamstring tendon sheath swelling. Therapists will be able to access these tendons at the popliteal space\, using hydrotherapy to reduce swelling\, and fingertip pin & drag with fascial strain to decrease adhesions in these tendons\, as well as specific quad stretching to improve knee flexion for patients with this disorder. Meralgia Paraesthetica pathology is also covered\, with participants learning how to safely decompress the femoral triangle via inguinal ligament release\nand other manual approaches\, to reduce the troublesome symptoms of this disorder. As always\, emphasis is on developing palpative skill\, anatomical knowledge\, and the critical thinking necessary to facilitate therapeutic mastery in manual therapy. \nCylinder of the Leg and It’s Compartments\nThis advanced myofascio-osteopathic release workshop is geared toward practitioners who are ready to elevate their palpation and treatment skills to the next level.\nThe Focus of this class is the anterior\, lateral\, superficial\, and deep compartments of the lower leg\, in addition to other disorders commonly seen from the knee down.\nChondromalacia patella/lateral patellar tracking syndrome\, shin splints (true march fracture as opposed to anterior compartment syndrome)\, lateral ankle sprain/strain\, achilles tendonitis/plantar fasciitis\, & Morton’s neuroma disorders are some of the topics covered.\nManual treatment strategies including myofascial and osseous work\, joint mobilizations\, hydrotherapy modalities (to be applied within treatment and as home care)\, and stretching/strengthening programs are practices\, to help patients who may be suffering from these ailments.\nThe ability to successfully treat disorders of the lower extremity is an enormously important skill\, as patient ability ambulate and weight bear without pain is significant to quality of life. \nClass Info\nTimes: Day 1: 10:00 am – 6:00 pm; Day 2: 10:00 am – 6:00 pm \nCEU’s: 16 \nPrice: $299 \nCLASS CANCELLED\nClass capacity: 20\n*Refunds are subject to a $10 processing fee. \nLocation: Gwinnett College – Roswell\, GA 1455 Old Alabama Road\, Suite 150 Roswell\, GA 30076 \nContact: Please call us at (770) 381-7200 if you have any questions. \nRefunds: No refunds within 2 weeks of class. If there is a documented emergency\, you may transfer after to a later class by this instructor. \nPicture ID required at check-in \nIf minimum enrollment is not met\, the class may be subject to cancellation.
URL:https://www.gwinnettcollege.edu/event/carrie-taylor-advanced-myofascial-osseous-cylinder-of-the-thigh-leg/
LOCATION:Gwinnett College – Roswell\, GA\, 1455 Old Alabama Road Suite 160\, Roswell\, GA\, 30076\, United States
END:VEVENT
BEGIN:VEVENT
DTSTART;TZID=UTC:20251025T100000
DTEND;TZID=UTC:20251026T180000
DTSTAMP:20260421T134506
CREATED:20251008T180257Z
LAST-MODIFIED:20251008T180403Z
UID:21225-1761386400-1761501600@www.gwinnettcollege.edu
SUMMARY:Carrie Taylor's Myofascial of the Lumbrosacral Hip Region & Knee\, Ankle\, and Foot
DESCRIPTION:Oct 25: Myofascial Assessment and Treatment of the Lumbrosacral Hip Region\nThis workshop will provide therapists with a new approach to effectively treating & preventing Lumbrosacral-Hip Complex pain. Therapists will review myofascial assessment by discussing intake information\, as well as using observation\, movement\, palpation\, neurological assessment\, referral pain and special tests to translate a patient’s clinical info into an effective treatment plan.\nThe majority of time is spent in hands-on practice of techniques for direct and indirect treatment of the lumbar spine\, ribcage\, pelvis\, lower and upper extremities\, as they all relate to back and hip pain. Supine and prone lower and upper extremity stretch protocols are shown\, as well as how to apply proprioceptive neuromuscular facilitation if necessary. In addition\, very specific lumbar/trunk\, hip/thigh\, and ilial/ischial release techniques will be highlighted. \nOct 26: Myofascial Assessment and Treatment of teh Knee\, Ankle\, and Foot\nThis workshop will provide therapists with different Myofascial approaches to effectively treat & prevent Knee\, Ankle & Foot pain. Therapists will briefly review Myofascial assessment\, by looking at ways to take a client’s intake information\, and translate it into an effective treatment plan. The majority of time is spent in hands-on practice of techniques for direct and indirect treatment of the lower extremity (a great continuation of the Lumbrosacral Hip workshop).\nMyofascial treatment & joint mobilization of the lower extremity is a necessary therapeutic approach to address sacroiliac dysfunction\, back\, hip\, knee\, & ankle pain.\nTreatment techniques for the lateral\, anterior\, and “back” fascial lines are shown\, with very specific direction in effectively accessing the gastrocnemius-soleus complex and Achilles’ tendon. In addition\, approaches to treating the Crural\, Hamstrings\, Patellar Fascias\, & Fascia Lata of the thigh are shown. Superior & inferior knee joint release\, plantar fascial treatment\, joint mobilizations/osseous techniques for the lower extremity\, and correcting pes cavus/planus round out the list of topics covered. \nInstructor: Kirsten Guilliams\nNCBTMB Approved Provider # 100 \nSupplies\n\nTwo twin set of sheets\nlotion or cream (no oil based products)\n\nClass info\nTimes: Day 1: 10:00 am – 6:00 pm // Day 2: 10:00 am – 6:00 pm \nClass: Fascial Fundamentals: Introduction to the Taylor Techniques & Assessment: The HOPMNRS Approach \nCEU: 14 \nPrice: $275 \n\n\n\n\nClass Capacity: 20 \n*Refunds are subject to a $10 processing fee. \nLocation: Gwinnett College – ROSWELL\, 1455 Old Alabama Road\, Suite 160 Roswell\, GA 30076 \nContact: Please call (770) 381-7200 if you have any questions. \nRefunds: No refunds within 2 weeks of class. If there is a documented emergency\, you may transfer after to a later class by this instructor. \nPicture ID required at check-in \nIf minimum enrollment is not met\, the class may be subject to cancellation.
URL:https://www.gwinnettcollege.edu/event/carrie-taylors-myofascial-of-the-lumbrosacral-hip-region-knee-ankle-and-foot/
LOCATION:Gwinnett College – Roswell\, GA\, 1455 Old Alabama Road Suite 160\, Roswell\, GA\, 30076\, United States
END:VEVENT
END:VCALENDAR